BEGIN:VCALENDAR
VERSION:2.0
PRODID:spatie/icalendar-generator
DESCRIPTION:Events from Salem Methodist Church
X-WR-CALDESC:Events from Salem Methodist Church
REFRESH-INTERVAL;VALUE=DURATION:PT1440M
X-PUBLISHED-TTL:PT1440M
BEGIN:VTIMEZONE
TZID:America/New_York
BEGIN:STANDARD
DTSTART:20251102T020000Z
TZOFFSETFROM:-0400
TZOFFSETTO:-0500
END:STANDARD
BEGIN:DAYLIGHT
DTSTART:20260308T020000Z
TZOFFSETFROM:-0500
TZOFFSETTO:-0400
END:DAYLIGHT
END:VTIMEZONE
BEGIN:VTIMEZONE
TZID:UTC
BEGIN:STANDARD
DTSTART:20250724T035919Z
TZOFFSETFROM:+0000
TZOFFSETTO:+0000
END:STANDARD
END:VTIMEZONE
BEGIN:VEVENT
UID:1613-48
DTSTAMP:20260420T035919Z
SUMMARY:Council Board Meeting
LOCATION:Salem Methodist Church 230 Boozy Creed RD.   Blountville TN 37617
ORGANIZER;CN=Site Admin:MAILTO:salemchurch23@outlook.com
RRULE:FREQ=MONTHLY;BYDAY=2MO;UNTIL=20350205T000000Z
DTSTART;TZID=America/New_York:20260413T183000
DTEND;TZID=America/New_York:20260413T193000
X-ALT-DESC;FMTTYPE=TEXT/HTML:This meeting is discuss current plans for the 
 church. All members are invited to attend.
CATEGORIES:Meetings
URL;VALUE=URI:https://salemmc.com/mc-events/council-board-meeting/?mc_id=16
 13
METHOD:PUBLISH
END:VEVENT
END:VCALENDAR