BEGIN:VCALENDAR
VERSION:2.0
PRODID:spatie/icalendar-generator
DESCRIPTION:Events from Salem Methodist Church
X-WR-CALDESC:Events from Salem Methodist Church
REFRESH-INTERVAL;VALUE=DURATION:PT1440M
X-PUBLISHED-TTL:PT1440M
BEGIN:VTIMEZONE
TZID:America/New_York
BEGIN:STANDARD
DTSTART:20251102T020000Z
TZOFFSETFROM:-0400
TZOFFSETTO:-0500
END:STANDARD
BEGIN:DAYLIGHT
DTSTART:20260308T020000Z
TZOFFSETFROM:-0500
TZOFFSETTO:-0400
END:DAYLIGHT
END:VTIMEZONE
BEGIN:VTIMEZONE
TZID:UTC
BEGIN:STANDARD
DTSTART:20250724T051003Z
TZOFFSETFROM:+0000
TZOFFSETTO:+0000
END:STANDARD
END:VTIMEZONE
BEGIN:VEVENT
UID:1957-84
DTSTAMP:20260420T051003Z
SUMMARY:Spaghetti Lunch to benefit St. Jude
LOCATION:Salem Methodist Church 230 Boozy Creed RD.   Blountville TN 37617
ORGANIZER;CN=Site Admin:MAILTO:salemchurch23@outlook.com
DTSTART;TZID=America/New_York:20260422T120000
DTEND;TZID=America/New_York:20260422T140000
X-ALT-DESC;FMTTYPE=TEXT/HTML:Come join us for a wonderful time of food and 
 fellowship. We will serve lunch on Wednesday\, April 22nd. All proceeds go
  to St. Jude Children’s Research Hospital. $12 Includes Salad\, Garlic B
 read\, Spaghetti\, Drink and Dessert and Drink.
CATEGORIES:Special Event
URL;VALUE=URI:https://salemmc.com/mc-events/spaghetti-lunch-to-benefit-st-j
 ude/
METHOD:PUBLISH
END:VEVENT
END:VCALENDAR