BEGIN:VCALENDAR
VERSION:2.0
PRODID:spatie/icalendar-generator
DESCRIPTION:Events from Salem Methodist Church
X-WR-CALDESC:Events from Salem Methodist Church
REFRESH-INTERVAL;VALUE=DURATION:PT1440M
X-PUBLISHED-TTL:PT1440M
BEGIN:VTIMEZONE
TZID:America/New_York
BEGIN:STANDARD
DTSTART:20251102T020000Z
TZOFFSETFROM:-0400
TZOFFSETTO:-0500
END:STANDARD
BEGIN:DAYLIGHT
DTSTART:20260308T020000Z
TZOFFSETFROM:-0500
TZOFFSETTO:-0400
END:DAYLIGHT
END:VTIMEZONE
BEGIN:VTIMEZONE
TZID:UTC
BEGIN:STANDARD
DTSTART:20250724T035855Z
TZOFFSETFROM:+0000
TZOFFSETTO:+0000
END:STANDARD
END:VTIMEZONE
BEGIN:VEVENT
UID:514-26
DTSTAMP:20260420T035855Z
SUMMARY:Widow and Widowers Fellowship
LOCATION:Salem Methodist Church 230 Boozy Creed RD.   Blountville TN 37617
ORGANIZER;CN=Site Admin:MAILTO:salemchurch23@outlook.com
RRULE:FREQ=MONTHLY;BYDAY=2MO;UNTIL=20271011T000000Z
DTSTART;TZID=America/New_York:20260413T120000
DTEND;TZID=America/New_York:20260413T130000
X-ALT-DESC;FMTTYPE=TEXT/HTML:A supportive community for those who are deali
 ng with the loss of a spouse and whose shared experiences can help build o
 r enhance friendships and while focusing on healing and hope through Chris
 t.
CATEGORIES:Fellowship
URL;VALUE=URI:https://salemmc.com/mc-events/widow-and-widowers-fellowship/?
 mc_id=514
METHOD:PUBLISH
END:VEVENT
END:VCALENDAR