BEGIN:VCALENDAR
VERSION:2.0
PRODID:spatie/icalendar-generator
DESCRIPTION:Events from Salem Methodist Church
X-WR-CALDESC:Events from Salem Methodist Church
REFRESH-INTERVAL;VALUE=DURATION:PT1440M
X-PUBLISHED-TTL:PT1440M
BEGIN:VTIMEZONE
TZID:America/New_York
BEGIN:STANDARD
DTSTART:20251102T020000Z
TZOFFSETFROM:-0400
TZOFFSETTO:-0500
END:STANDARD
BEGIN:DAYLIGHT
DTSTART:20260308T020000Z
TZOFFSETFROM:-0500
TZOFFSETTO:-0400
END:DAYLIGHT
END:VTIMEZONE
BEGIN:VTIMEZONE
TZID:UTC
BEGIN:STANDARD
DTSTART:20250724T075327Z
TZOFFSETFROM:+0000
TZOFFSETTO:+0000
END:STANDARD
END:VTIMEZONE
BEGIN:VEVENT
UID:581-43
DTSTAMP:20260420T075327Z
SUMMARY:Bill McClain Birthday
LOCATION:Everywhere
ORGANIZER;CN=Site Admin:MAILTO:salemchurch23@outlook.com
RRULE:FREQ=YEARLY;BYMONTH=01;BYDAY=01;UNTIL=20380101T000000Z
DTSTART;TZID=America/New_York;VALUE=DATE:20260101
DTEND;TZID=America/New_York;VALUE=DATE:20260102
X-ALT-DESC;FMTTYPE=TEXT/HTML:Happy Birthday Bill
CATEGORIES:Birthday
URL;VALUE=URI:https://salemmc.com/mc-events/bill-mcclain-birthday/?mc_id=58
 1
METHOD:PUBLISH
END:VEVENT
END:VCALENDAR