BEGIN:VCALENDAR
VERSION:2.0
PRODID:spatie/icalendar-generator
DESCRIPTION:Events from Salem Methodist Church
X-WR-CALDESC:Events from Salem Methodist Church
REFRESH-INTERVAL;VALUE=DURATION:PT1440M
X-PUBLISHED-TTL:PT1440M
BEGIN:VTIMEZONE
TZID:America/New_York
BEGIN:STANDARD
DTSTART:20261101T020000Z
TZOFFSETFROM:-0400
TZOFFSETTO:-0500
END:STANDARD
BEGIN:DAYLIGHT
DTSTART:20270314T020000Z
TZOFFSETFROM:-0500
TZOFFSETTO:-0400
END:DAYLIGHT
END:VTIMEZONE
BEGIN:VTIMEZONE
TZID:UTC
BEGIN:STANDARD
DTSTART:20250724T050958Z
TZOFFSETFROM:+0000
TZOFFSETTO:+0000
END:STANDARD
END:VTIMEZONE
BEGIN:VEVENT
UID:595-44
DTSTAMP:20260420T050958Z
SUMMARY:Charlotte Price Birthday
LOCATION:Everywhere
ORGANIZER;CN=Site Admin:MAILTO:salemchurch23@outlook.com
RRULE:FREQ=YEARLY;BYMONTH=01;BYDAY=02;UNTIL=20360102T000000Z
DTSTART;TZID=America/New_York;VALUE=DATE:20270102
DTEND;TZID=America/New_York;VALUE=DATE:20270103
X-ALT-DESC;FMTTYPE=TEXT/HTML:Happy Birthday Charlotte
CATEGORIES:Birthday
URL;VALUE=URI:https://salemmc.com/mc-events/charlotte-price-birthday/?mc_id
 =595
METHOD:PUBLISH
END:VEVENT
END:VCALENDAR