BEGIN:VCALENDAR
VERSION:2.0
PRODID:spatie/icalendar-generator
DESCRIPTION:Events from Salem Methodist Church
X-WR-CALDESC:Events from Salem Methodist Church
REFRESH-INTERVAL;VALUE=DURATION:PT1440M
X-PUBLISHED-TTL:PT1440M
BEGIN:VTIMEZONE
TZID:America/New_York
BEGIN:STANDARD
DTSTART:20261101T020000Z
TZOFFSETFROM:-0400
TZOFFSETTO:-0500
END:STANDARD
BEGIN:DAYLIGHT
DTSTART:20270314T020000Z
TZOFFSETFROM:-0500
TZOFFSETTO:-0400
END:DAYLIGHT
END:VTIMEZONE
BEGIN:VTIMEZONE
TZID:UTC
BEGIN:STANDARD
DTSTART:20250724T051519Z
TZOFFSETFROM:+0000
TZOFFSETTO:+0000
END:STANDARD
END:VTIMEZONE
BEGIN:VEVENT
UID:1896-73
DTSTAMP:20260420T051519Z
SUMMARY:Pete Miller
LOCATION:Everywhere
ORGANIZER;CN=Site Admin:MAILTO:salemchurch23@outlook.com
RRULE:FREQ=YEARLY;BYMONTH=03;BYDAY=31;UNTIL=20360331T000000Z
DTSTART;TZID=America/New_York;VALUE=DATE:20270331
DTEND;TZID=America/New_York;VALUE=DATE:20270401
X-ALT-DESC;FMTTYPE=TEXT/HTML:Happy Birthday Pete!
CATEGORIES:Birthday
URL;VALUE=URI:https://salemmc.com/mc-events/pete-miller/?mc_id=1896
METHOD:PUBLISH
END:VEVENT
END:VCALENDAR